BEGIN:VCALENDAR
VERSION:2.0
PRODID:-//ICLD//EN
CALSCALE:GREGORIAN
METHOD:PUBLISH
BEGIN:VEVENT
UID:38301@icld.se
DTSTAMP:20260420T105659Z
DTSTART:20220308T070000Z
DTEND:20220311T160000Z
SUMMARY:ITP Inception workshop of the Inclusive Local Governance Programme
DESCRIPTION:https://icld.se/en/calendar/itp-inception-workshop-of-the-inclusive-local-governance-programme-2/
URL:https://icld.se/en/calendar/itp-inception-workshop-of-the-inclusive-local-governance-programme-2/
END:VEVENT
END:VCALENDAR
