BEGIN:VCALENDAR
VERSION:2.0
PRODID:-//ICLD//EN
CALSCALE:GREGORIAN
METHOD:PUBLISH
BEGIN:VEVENT
UID:38251@icld.se
DTSTAMP:20260420T105800Z
DTSTART;VALUE=DATE:20210525
DTEND;VALUE=DATE:20210529
SUMMARY:ITP Gender Mainstreaming Program &#8211\; Sverigefas
DESCRIPTION:https://icld.se/en/calendar/itp-gender-mainstreaming-program-sverigefas-2/
URL:https://icld.se/en/calendar/itp-gender-mainstreaming-program-sverigefas-2/
END:VEVENT
END:VCALENDAR
