BEGIN:VCALENDAR
VERSION:2.0
PRODID:-//ICLD//EN
CALSCALE:GREGORIAN
METHOD:PUBLISH
BEGIN:VEVENT
UID:38283@icld.se
DTSTAMP:20260420T105718Z
DTSTART:20211130T070000Z
DTEND:20211204T160000Z
SUMMARY:ITP Final Workshop of Public Financial Management and Local Economic Development
DESCRIPTION:https://icld.se/en/calendar/itp-final-workshop-of-the-programme-public-financial-management-and-local-economic-development/
URL:https://icld.se/en/calendar/itp-final-workshop-of-the-programme-public-financial-management-and-local-economic-development/
END:VEVENT
END:VCALENDAR
