BEGIN:VCALENDAR
VERSION:2.0
PRODID:-//ICLD//EN
CALSCALE:GREGORIAN
METHOD:PUBLISH
BEGIN:VEVENT
UID:38253@icld.se
DTSTAMP:20260420T105756Z
DTSTART;VALUE=DATE:20210602
DTEND;VALUE=DATE:20210605
SUMMARY:ITP Alumni Program &#8211\; Digital Workshop
DESCRIPTION:https://icld.se/en/calendar/itp-alumni-program-digital-workshop-2/
URL:https://icld.se/en/calendar/itp-alumni-program-digital-workshop-2/
END:VEVENT
END:VCALENDAR
