BEGIN:VCALENDAR
VERSION:2.0
PRODID:-//ICLD//EN
CALSCALE:GREGORIAN
METHOD:PUBLISH
BEGIN:VEVENT
UID:38305@icld.se
DTSTAMP:20260420T105654Z
DTSTART:20220322T080000Z
DTEND:20220323T160000Z
SUMMARY:ITP Alumni event of the Zimbabwe Leadership Programme
DESCRIPTION:https://icld.se/en/calendar/itp-alumni-event-of-the-zimbabwe-leadership-programme-2/
URL:https://icld.se/en/calendar/itp-alumni-event-of-the-zimbabwe-leadership-programme-2/
END:VEVENT
END:VCALENDAR
