BEGIN:VCALENDAR
VERSION:2.0
PRODID:-//ICLD//EN
CALSCALE:GREGORIAN
METHOD:PUBLISH
BEGIN:VEVENT
UID:38516@icld.se
DTSTAMP:20260420T105354Z
DTSTART;VALUE=DATE:20250812
DTEND;VALUE=DATE:20250813
SUMMARY:International Youth Day
DESCRIPTION:https://icld.se/en/calendar/international-youth-day-2/
URL:https://icld.se/en/calendar/international-youth-day-2/
END:VEVENT
END:VCALENDAR
