BEGIN:VCALENDAR
VERSION:2.0
PRODID:-//ICLD//EN
CALSCALE:GREGORIAN
METHOD:PUBLISH
BEGIN:VEVENT
UID:38496@icld.se
DTSTAMP:20260420T105415Z
DTSTART;VALUE=DATE:20250308
DTEND;VALUE=DATE:20250309
SUMMARY:International Women&#8217\;s Day
DESCRIPTION:https://icld.se/en/calendar/international-womens-day-2/
URL:https://icld.se/en/calendar/international-womens-day-2/
END:VEVENT
END:VCALENDAR
