BEGIN:VCALENDAR
VERSION:2.0
PRODID:-//ICLD//EN
CALSCALE:GREGORIAN
METHOD:PUBLISH
BEGIN:VEVENT
UID:38512@icld.se
DTSTAMP:20260420T105358Z
DTSTART;VALUE=DATE:20250624
DTEND;VALUE=DATE:20250625
SUMMARY:International Day of Women in Diplomacy
DESCRIPTION:https://icld.se/en/calendar/international-day-of-women-in-diplomacy-2/
URL:https://icld.se/en/calendar/international-day-of-women-in-diplomacy-2/
END:VEVENT
END:VCALENDAR
