BEGIN:VCALENDAR
VERSION:2.0
PRODID:-//ICLD//EN
CALSCALE:GREGORIAN
METHOD:PUBLISH
BEGIN:VEVENT
UID:38506@icld.se
DTSTAMP:20260420T105404Z
DTSTART;VALUE=DATE:20250516
DTEND;VALUE=DATE:20250517
SUMMARY:International Day of Living Together in Peace
DESCRIPTION:https://icld.se/en/calendar/international-day-of-living-together-in-peace-2/
URL:https://icld.se/en/calendar/international-day-of-living-together-in-peace-2/
END:VEVENT
END:VCALENDAR
