BEGIN:VCALENDAR
VERSION:2.0
PRODID:-//ICLD//EN
CALSCALE:GREGORIAN
METHOD:PUBLISH
BEGIN:VEVENT
UID:38495@icld.se
DTSTAMP:20260420T105416Z
DTSTART;VALUE=DATE:20250124
DTEND;VALUE=DATE:20250125
SUMMARY:International Day of Education
DESCRIPTION:https://icld.se/en/calendar/international-day-of-education-2/
URL:https://icld.se/en/calendar/international-day-of-education-2/
END:VEVENT
END:VCALENDAR
