BEGIN:VCALENDAR
VERSION:2.0
PRODID:-//ICLD//EN
CALSCALE:GREGORIAN
METHOD:PUBLISH
BEGIN:VEVENT
UID:39451@icld.se
DTSTAMP:20260420T104958Z
DTSTART;VALUE=DATE:20250128
DTEND;VALUE=DATE:20250201
SUMMARY:Inception &#8211\; WPL
DESCRIPTION:Inception workshop for Women Political Leadership programme cohort 12\n\nhttps://icld.se/en/calendar/inception-wpl/
URL:https://icld.se/en/calendar/inception-wpl/
END:VEVENT
END:VCALENDAR
