BEGIN:VCALENDAR
VERSION:2.0
PRODID:-//ICLD//EN
CALSCALE:GREGORIAN
METHOD:PUBLISH
BEGIN:VEVENT
UID:39476@icld.se
DTSTAMP:20260420T104956Z
DTSTART;VALUE=DATE:20260128
DTEND;VALUE=DATE:20260201
SUMMARY:Inception &#8211\; WPL
DESCRIPTION:Inception cohort Women Political Leadership\n\nhttps://icld.se/en/calendar/inception-wpl-2/
URL:https://icld.se/en/calendar/inception-wpl-2/
END:VEVENT
END:VCALENDAR
