BEGIN:VCALENDAR
VERSION:2.0
PRODID:-//ICLD//EN
CALSCALE:GREGORIAN
METHOD:PUBLISH
BEGIN:VEVENT
UID:38292@icld.se
DTSTAMP:20260420T105710Z
DTSTART:20220131T080000Z
DTEND:20220204T160000Z
SUMMARY:ITP Inception workshop of the Public Financial Management and Local Economic Development Programme\, cohort 8
DESCRIPTION:https://icld.se/en/calendar/inception-workshop-of-the-public-financial-management-and-local-economic-development-programme-cohort-8-2/
URL:https://icld.se/en/calendar/inception-workshop-of-the-public-financial-management-and-local-economic-development-programme-cohort-8-2/
END:VEVENT
END:VCALENDAR
