BEGIN:VCALENDAR
VERSION:2.0
PRODID:-//ICLD//EN
CALSCALE:GREGORIAN
METHOD:PUBLISH
BEGIN:VEVENT
UID:38348@icld.se
DTSTAMP:20260420T105148Z
DTSTART:20220609T150000Z
DTEND:20220609T160000Z
SUMMARY:If researchers ruled our cities
DESCRIPTION:What happens if 70 researchers from all over the world gather for a week of mutual learning\, critical thinking and exchange of new ideas to foster a more inclusive local democracy on a global scale? Join our live or online session from Almedalen parc in Visby\, Sweden\, one of the largest democratic meeting places in [&hellip\;]\n\nhttps://icld.se/en/calendar/if-researchers-ruled-our-cities-2/
URL:https://icld.se/en/calendar/if-researchers-ruled-our-cities-2/
END:VEVENT
END:VCALENDAR
