BEGIN:VCALENDAR
VERSION:2.0
PRODID:-//ICLD//EN
CALSCALE:GREGORIAN
METHOD:PUBLISH
BEGIN:VEVENT
UID:38343@icld.se
DTSTAMP:20260420T105614Z
DTSTART:20220706T130000Z
DTEND:20220706T134500Z
SUMMARY:ICLD in Almedalen
DESCRIPTION:Partnerships for peace\, justice &#038\; strong institutions Plats: Sverige i Världen\, Donnersplats 6\n\nhttps://icld.se/en/calendar/icld-i-almedalen-2-2/
URL:https://icld.se/en/calendar/icld-i-almedalen-2-2/
END:VEVENT
END:VCALENDAR
