BEGIN:VCALENDAR
VERSION:2.0
PRODID:-//ICLD//EN
CALSCALE:GREGORIAN
METHOD:PUBLISH
BEGIN:VEVENT
UID:38488@icld.se
DTSTAMP:20260420T105038Z
DTSTART:20241003T080000Z
DTEND:20241003T100000Z
SUMMARY:ICLD Fieldwork Grant Experiences 2024
DESCRIPTION:Digital presentations in Zoom\, SIGN UPP for the presentation\n\nhttps://icld.se/en/calendar/icld-fieldwork-grant-experiences-2024/
URL:https://icld.se/en/calendar/icld-fieldwork-grant-experiences-2024/
END:VEVENT
END:VCALENDAR
