BEGIN:VCALENDAR
VERSION:2.0
PRODID:-//ICLD//EN
CALSCALE:GREGORIAN
METHOD:PUBLISH
BEGIN:VEVENT
UID:38575@icld.se
DTSTAMP:20260420T105308Z
DTSTART:20251007T060000Z
DTEND:20251009T150000Z
SUMMARY:ICLD Alumni Conference: Youth Inclusion in Local Governance
DESCRIPTION:Lusaka\, Zambia. Youth make up a crucial part of the population in Southern and Eastern Africa. Including their voices in governance is not just desirable — it is essential. The ICLD Alumni Conference 2025 brings together local governments\, researchers\, alumni\, civil society\, and development practitioners to explore how to translate policies into real\, impactful action [&hellip\;]\n\nhttps://icld.se/en/calendar/icld-alumni-conference-youth-inclusion-in-local-governance-2/
URL:https://icld.se/en/calendar/icld-alumni-conference-youth-inclusion-in-local-governance-2/
END:VEVENT
END:VCALENDAR
