BEGIN:VCALENDAR
VERSION:2.0
PRODID:-//ICLD//EN
CALSCALE:GREGORIAN
METHOD:PUBLISH
BEGIN:VEVENT
UID:38381@icld.se
DTSTAMP:20260420T105540Z
DTSTART:20230307T070000Z
DTEND:20230310T160000Z
SUMMARY:Human Rights Network
DESCRIPTION:Follow up\n\nhttps://icld.se/en/calendar/human-rights-network-2/
URL:https://icld.se/en/calendar/human-rights-network-2/
END:VEVENT
END:VCALENDAR
