BEGIN:VCALENDAR
VERSION:2.0
PRODID:-//ICLD//EN
CALSCALE:GREGORIAN
METHOD:PUBLISH
BEGIN:VEVENT
UID:38536@icld.se
DTSTAMP:20260420T105030Z
DTSTART:20241210T120000Z
DTEND:20241210T133000Z
SUMMARY:HR Day Alumni Talk &#8211\; Transparency in Local Budgeting: Empowering Communities for Human Rights
DESCRIPTION:Transparency in the local budget process is a precondition for fair and meaningful participation in local governance. A &#8220\;Citizens&#8217\; Budget&#8221\; can be a helpful tool! Join this webinar and listen to Eastern African municipalities\, research and local government associations all working to improve the local budget process. Programme and participants: Transparency is a cornerstone of [&hellip\;]\n\nhttps://icld.se/en/calendar/hr-day-alumni-talk-democratic-local-budgets-2/
URL:https://icld.se/en/calendar/hr-day-alumni-talk-democratic-local-budgets-2/
END:VEVENT
END:VCALENDAR
