BEGIN:VCALENDAR
VERSION:2.0
PRODID:-//ICLD//EN
CALSCALE:GREGORIAN
METHOD:PUBLISH
BEGIN:VEVENT
UID:38290@icld.se
DTSTAMP:20260420T105712Z
DTSTART:20220101T070000Z
DTEND:20220101T160000Z
SUMMARY:Happy New Year
DESCRIPTION:https://icld.se/en/calendar/gott-nytt-2022-2/
URL:https://icld.se/en/calendar/gott-nytt-2022-2/
END:VEVENT
END:VCALENDAR
