BEGIN:VCALENDAR
VERSION:2.0
PRODID:-//ICLD//EN
CALSCALE:GREGORIAN
METHOD:PUBLISH
BEGIN:VEVENT
UID:38332@icld.se
DTSTAMP:20260420T105204Z
DTSTART:20220310T071500Z
DTEND:20220310T110000Z
SUMMARY:Get women more involved! ICLD Cross-pollination seminar
DESCRIPTION:Strengthening Effective Participation and Equitable Representation of Women in Local Democracy The Zoom link and a reminder will be sent out to you the day before the seminar if you registered in advance. In terms of broad geopolitical sentiment\, there is a strong commitment to improving gender equality in political decision-making through the adoption and [&hellip\;]\n\nhttps://icld.se/en/calendar/get-women-more-involved-icld-crosspollination-seminar-2/
URL:https://icld.se/en/calendar/get-women-more-involved-icld-crosspollination-seminar-2/
END:VEVENT
END:VCALENDAR
