BEGIN:VCALENDAR
VERSION:2.0
PRODID:-//ICLD//EN
CALSCALE:GREGORIAN
METHOD:PUBLISH
BEGIN:VEVENT
UID:38351@icld.se
DTSTAMP:20260420T105610Z
DTSTART:20220927T060000Z
DTEND:20220930T150000Z
SUMMARY:Follow up workshop &#8211\; ITP Gender Mainstreaming
DESCRIPTION:https://icld.se/en/calendar/gender-mainstreming-follow-up-workshop/
URL:https://icld.se/en/calendar/gender-mainstreming-follow-up-workshop/
END:VEVENT
END:VCALENDAR
