BEGIN:VCALENDAR
VERSION:2.0
PRODID:-//ICLD//EN
CALSCALE:GREGORIAN
METHOD:PUBLISH
BEGIN:VEVENT
UID:38383@icld.se
DTSTAMP:20260420T105538Z
DTSTART:20230507T060000Z
DTEND:20230518T150000Z
SUMMARY:Gender mainstreaming &#8211\; Swedish phase
DESCRIPTION:Swedish phase\n\nhttps://icld.se/en/calendar/gender-mainstreaming-programme-2/
URL:https://icld.se/en/calendar/gender-mainstreaming-programme-2/
END:VEVENT
END:VCALENDAR
