BEGIN:VCALENDAR
VERSION:2.0
PRODID:-//ICLD//EN
CALSCALE:GREGORIAN
METHOD:PUBLISH
BEGIN:VEVENT
UID:38368@icld.se
DTSTAMP:20260420T105550Z
DTSTART:20221122T070000Z
DTEND:20221125T160000Z
SUMMARY:Follow Up Workshop Human Right Based Approach
DESCRIPTION:https://icld.se/en/calendar/follow-up-workshop-human-right-based-approach/
URL:https://icld.se/en/calendar/follow-up-workshop-human-right-based-approach/
END:VEVENT
END:VCALENDAR
