BEGIN:VCALENDAR
VERSION:2.0
PRODID:-//ICLD//EN
CALSCALE:GREGORIAN
METHOD:PUBLISH
BEGIN:VEVENT
UID:38372@icld.se
DTSTAMP:20260420T105552Z
DTSTART:20221128T070000Z
DTEND:20221202T160000Z
SUMMARY:Final workshop Zimbabwe Leadership programme
DESCRIPTION:https://icld.se/en/calendar/final-workshop-zimbabwe-leadership-programme/
URL:https://icld.se/en/calendar/final-workshop-zimbabwe-leadership-programme/
END:VEVENT
END:VCALENDAR
