BEGIN:VCALENDAR
VERSION:2.0
PRODID:-//ICLD//EN
CALSCALE:GREGORIAN
METHOD:PUBLISH
BEGIN:VEVENT
UID:38281@icld.se
DTSTAMP:20260420T105720Z
DTSTART:20211115T070000Z
DTEND:20211119T160000Z
SUMMARY:ITP Final Workshop of Gender Mainstreaming Programme
DESCRIPTION:https://icld.se/en/calendar/final-workshop-of-gender-mainstreaming-programme/
URL:https://icld.se/en/calendar/final-workshop-of-gender-mainstreaming-programme/
END:VEVENT
END:VCALENDAR
