BEGIN:VCALENDAR
VERSION:2.0
PRODID:-//ICLD//EN
CALSCALE:GREGORIAN
METHOD:PUBLISH
BEGIN:VEVENT
UID:38420@icld.se
DTSTAMP:20260420T105508Z
DTSTART:20230918T060000Z
DTEND:20230922T150000Z
SUMMARY:Final workshop Gender Mainstreaming Programme
DESCRIPTION:https://icld.se/en/calendar/final-workshop-gender-mainstreaming-programme/
URL:https://icld.se/en/calendar/final-workshop-gender-mainstreaming-programme/
END:VEVENT
END:VCALENDAR
