BEGIN:VCALENDAR
VERSION:2.0
PRODID:-//ICLD//EN
CALSCALE:GREGORIAN
METHOD:PUBLISH
BEGIN:VEVENT
UID:38401@icld.se
DTSTAMP:20260420T105526Z
DTSTART:20230612T060000Z
DTEND:20230614T150000Z
SUMMARY:Final Workshop Finance
DESCRIPTION:Final Workshop of ICLD programme Public Financial Management and Local Economic Development\n\nhttps://icld.se/en/calendar/final-workshop-finance/
URL:https://icld.se/en/calendar/final-workshop-finance/
END:VEVENT
END:VCALENDAR
