BEGIN:VCALENDAR
VERSION:2.0
PRODID:-//ICLD//EN
CALSCALE:GREGORIAN
METHOD:PUBLISH
BEGIN:VEVENT
UID:38329@icld.se
DTSTAMP:20260420T105620Z
DTSTART:20220822T060000Z
DTEND:20220824T150000Z
SUMMARY:Development Research Conference: Local Democracy in Action round table
DESCRIPTION:https://icld.se/en/calendar/development-research-conference-local-democracy-in-action-round-table-2/
URL:https://icld.se/en/calendar/development-research-conference-local-democracy-in-action-round-table-2/
END:VEVENT
END:VCALENDAR
