BEGIN:VCALENDAR
VERSION:2.0
PRODID:-//ICLD//EN
CALSCALE:GREGORIAN
METHOD:PUBLISH
BEGIN:VEVENT
UID:38540@icld.se
DTSTAMP:20260420T105332Z
DTSTART:20241210T130000Z
DTEND:20241210T140000Z
SUMMARY:Democratic local budgets! &#8211\; Alumni Talks on Human Rights day
DESCRIPTION:https://icld.se/en/calendar/democratic-local-budgets-alumni-talks-on-human-rights-day-2/
URL:https://icld.se/en/calendar/democratic-local-budgets-alumni-talks-on-human-rights-day-2/
END:VEVENT
END:VCALENDAR
