BEGIN:VCALENDAR
VERSION:2.0
PRODID:-//ICLD//EN
CALSCALE:GREGORIAN
METHOD:PUBLISH
BEGIN:VEVENT
UID:38468@icld.se
DTSTAMP:20260420T105432Z
DTSTART:20240915T060000Z
DTEND:20240915T150000Z
SUMMARY:Democracy Day
DESCRIPTION:https://icld.se/en/calendar/democracy-day/
URL:https://icld.se/en/calendar/democracy-day/
END:VEVENT
END:VCALENDAR
