BEGIN:VCALENDAR
VERSION:2.0
PRODID:-//ICLD//EN
CALSCALE:GREGORIAN
METHOD:PUBLISH
BEGIN:VEVENT
UID:38568@icld.se
DTSTAMP:20260420T105312Z
DTSTART:20250428T060000Z
DTEND:20250502T150000Z
SUMMARY:Carpathian Sea Democracy Week 2025
DESCRIPTION:Carpathian Sea Democracy Week 2025 is an annual democratic forum that unites Ukraine and Europe to strengthen partnership\, find solutions and discuss the ways to bring the victory closer. ICLD Is joining the Carpathian Sea Democracy Week and is organisning a seminar the 30th of April International municipal partnership collaboration: a tool to strengthen local [&hellip\;]\n\nhttps://icld.se/en/calendar/carpathian-sea-democracy-week-2025-2/
URL:https://icld.se/en/calendar/carpathian-sea-democracy-week-2025-2/
END:VEVENT
END:VCALENDAR
