BEGIN:VCALENDAR
VERSION:2.0
PRODID:-//ICLD//EN
CALSCALE:GREGORIAN
METHOD:PUBLISH
BEGIN:VEVENT
UID:38482@icld.se
DTSTAMP:20260420T105424Z
DTSTART:20241010T060000Z
DTEND:20241010T150000Z
SUMMARY:Alumni training of trainers: Stakeholder Engagement
DESCRIPTION:Kampala\, Uganda The training of trainers welcome ICLD Alumni based in Uganda\, to delve into the Stakeholder Engagement Toolbox and be equipped to further the knowledge and the practices in their home municipalities. This training is part of the Alumni Network activities in Eastern Africa\, with the objective to spread knowledge and strengthen democratic local [&hellip\;]\n\nhttps://icld.se/en/calendar/alumni-training-of-trainers-stakeholder-engagement-2-3/
URL:https://icld.se/en/calendar/alumni-training-of-trainers-stakeholder-engagement-2-3/
END:VEVENT
END:VCALENDAR
