BEGIN:VCALENDAR
VERSION:2.0
PRODID:-//ICLD//EN
CALSCALE:GREGORIAN
METHOD:PUBLISH
BEGIN:VEVENT
UID:38579@icld.se
DTSTAMP:20260420T105304Z
DTSTART:20250904T060000Z
DTEND:20250905T150000Z
SUMMARY:Alumni Training Kenya: SDG Clubs
DESCRIPTION:ICLD is organizing a training workshop on the SDG Club Toolkit\, aimed at equipping participants with practical guidance to establish Sustainable Development Goals (SDG) clubs in schools. This initiative seeks to empower local government representatives and educators to foster youth leadership\, enhance civic engagement\, and promote community-driven contributions to the UN’s Agenda 2030. The training [&hellip\;]\n\nhttps://icld.se/en/calendar/alumni-training-kenya-sdg-clubs-2/
URL:https://icld.se/en/calendar/alumni-training-kenya-sdg-clubs-2/
END:VEVENT
END:VCALENDAR
