BEGIN:VCALENDAR
VERSION:2.0
PRODID:-//ICLD//EN
CALSCALE:GREGORIAN
METHOD:PUBLISH
BEGIN:VEVENT
UID:38353@icld.se
DTSTAMP:20260420T105604Z
DTSTART:20221020T140000Z
DTEND:20221020T150000Z
SUMMARY:Alumni Talks &#8211\; Localising the Global Goals in Africa 
DESCRIPTION:This talk\, hosted by ICLD alumni\, will cover a brief overview and discussions on the status of SDG mainstreaming in local authority plans in Africa by showcasing two examples: Mufulira municipal council in Zambia and Kiambu County government in Kenya. The talk will conclude with an introduction to the concept of Voluntary Local Reviews – [&hellip\;]\n\nhttps://icld.se/en/calendar/alumni-talks-localising-the-global-goals-in-africa/
URL:https://icld.se/en/calendar/alumni-talks-localising-the-global-goals-in-africa/
END:VEVENT
END:VCALENDAR
