BEGIN:VCALENDAR
VERSION:2.0
PRODID:-//ICLD//EN
CALSCALE:GREGORIAN
METHOD:PUBLISH
BEGIN:VEVENT
UID:38425@icld.se
DTSTAMP:20260420T105106Z
DTSTART:20231206T120000Z
DTEND:20231206T130000Z
SUMMARY:Alumni Talks &#8211\; Citizens Scorecard
DESCRIPTION:Welcome to ICLD Alumni Talks on Citizens Scorecard &#8211\; promoting participation and accountability in local Governments in East Africa. 6 December 13.00-14.00 CET\, 15.00-16.00 EAT Programme and participants: Opening remarks Johan Lilja\, Secretary General\, ICLD Introduction to citizens scorecard Joel Wernersson\, Quality Assurance Manager\, ICLD Case studies from East Africa: Anita Lyoka\, Community Development Officer\, [&hellip\;]\n\nhttps://icld.se/en/calendar/alumni-talks-citizens-scorecard/
URL:https://icld.se/en/calendar/alumni-talks-citizens-scorecard/
END:VEVENT
END:VCALENDAR
