BEGIN:VCALENDAR
VERSION:2.0
PRODID:-//ICLD//EN
CALSCALE:GREGORIAN
METHOD:PUBLISH
BEGIN:VEVENT
UID:38577@icld.se
DTSTAMP:20260420T105306Z
DTSTART:20250626T120000Z
DTEND:20250626T133000Z
SUMMARY:Alumni Talk: Post-training Steps from Inspiration to Action
DESCRIPTION:Welcome to an ICLD Alumni talk! Have you been inspired to create change but don&#8217\;t know how to get your organisation on board? Do you need support in institutionalizing new methods? In this digital workshop\, John Gitonga\, ICLD mentor\, and Eric Matata\, Director of Municipal Administration and Urban Development at Kiambu County takes us through [&hellip\;]\n\nhttps://icld.se/en/calendar/alumni-talk-post-training-steps-from-inspiration-to-action-2/
URL:https://icld.se/en/calendar/alumni-talk-post-training-steps-from-inspiration-to-action-2/
END:VEVENT
END:VCALENDAR
