BEGIN:VCALENDAR
VERSION:2.0
PRODID:-//ICLD//EN
CALSCALE:GREGORIAN
METHOD:PUBLISH
BEGIN:VEVENT
UID:38430@icld.se
DTSTAMP:20260420T105110Z
DTSTART:20240314T130000Z
DTEND:20240314T170000Z
SUMMARY:Alumni event in Tanzania
DESCRIPTION:Welcome all Alumni in Dar es Salaam! ICLD together with the Embassy of Sweden and the Swedish Institute invite all our Sweden/SI and ICLD Alumni in Tanzania to an afternoon of interactive seminars &#8211\; Local Democracy Labs &#8211\; to discuss relevant policy dilemmas with academic experts. The Lab session will be followed by a social [&hellip\;]\n\nhttps://icld.se/en/calendar/alumni-event-in-tanzania/
URL:https://icld.se/en/calendar/alumni-event-in-tanzania/
END:VEVENT
END:VCALENDAR
