BEGIN:VCALENDAR
VERSION:2.0
PRODID:-//ICLD//EN
CALSCALE:GREGORIAN
METHOD:PUBLISH
BEGIN:VEVENT
UID:38683@icld.se
DTSTAMP:20260420T105014Z
DTSTART:20251119T140000Z
DTEND:20251119T180000Z
SUMMARY:AI for AID
DESCRIPTION:How can AI improve development cooperation?&nbsp\;The world is changing rapidly and the need for humanitarian aid –&nbsp\;in particular –&nbsp\; is greater than ever. Aid also needs to change and evolve. With the help of AI tools\, we can streamline and further develop Sweden’s aid.&nbsp\; This event brings together the tech sector\, civil society\, and development [&hellip\;]\n\nhttps://icld.se/en/calendar/ai-for-aid/
URL:https://icld.se/en/calendar/ai-for-aid/
END:VEVENT
END:VCALENDAR
