BEGIN:VCALENDAR
VERSION:2.0
PRODID:-//ICLD//EN
CALSCALE:GREGORIAN
METHOD:PUBLISH
BEGIN:VEVENT
UID:38423@icld.se
DTSTAMP:20260420T105506Z
DTSTART:20231009T060000Z
DTEND:20231013T150000Z
SUMMARY:Advisory Group meeting
DESCRIPTION:https://icld.se/en/calendar/advisory-group-meeting-2/
URL:https://icld.se/en/calendar/advisory-group-meeting-2/
END:VEVENT
END:VCALENDAR
