BEGIN:VCALENDAR
VERSION:2.0
PRODID:-//ICLD//EN
CALSCALE:GREGORIAN
METHOD:PUBLISH
BEGIN:VEVENT
UID:38233@icld.se
DTSTAMP:20260420T105820Z
DTSTART:20210304T120000Z
DTEND:20210304T140000Z
SUMMARY:Local Democracy Labs
DESCRIPTION:Upcoming Local Democracy Labs Theme: Gender Equal Cities Date: March 4\, 2021 Time: 13.00 – 14.00 and 14:30 – 15:30 (Kenya time) Place: Nairobi  and Zoom   Read more\n\nhttps://icld.se/en/calendar/16104/
URL:https://icld.se/en/calendar/16104/
END:VEVENT
END:VCALENDAR
